BEGIN:VCALENDAR
VERSION:2.0
PRODID:-//Sabre//Sabre VObject 4.5.8//EN
CALSCALE:GREGORIAN
BEGIN:VEVENT
UID:criticalmass-one-wentorf-1639821600
DTSTAMP:20260425T232244Z
SUMMARY:Critical Mass Wentorf 18.12.2021
DTSTART;TZID=Europe/Berlin:20211218T110000
DTEND;TZID=Europe/Berlin:20211218T130000
LOCATION:Casino Park
GEO:53.491595;10.252304
URL;VALUE=URI:https://criticalmass.in/wentorf/2021-12-18
END:VEVENT
END:VCALENDAR
