BEGIN:VCALENDAR
VERSION:2.0
PRODID:-//Sabre//Sabre VObject 4.5.8//EN
CALSCALE:GREGORIAN
BEGIN:VEVENT
UID:criticalmass-one-weinheim-1773421200
DTSTAMP:20260423T190116Z
SUMMARY:Critical Mass Weinheim 13.3.2026
DESCRIPTION:Eine gemütliche Runde durch die Stadt.\n\nTreffen 18 Uhr\, Abf
 ahrt 18:15
DTSTART;TZID=Europe/Berlin:20260313T180000
DTEND;TZID=Europe/Berlin:20260313T200000
LOCATION:P+R Parkplatz südlich vom Hauptbahnhof Weinheim
GEO:49.551972;8.665069
URL;VALUE=URI:https://criticalmass.in/weinheim/2026-03-13
END:VEVENT
END:VCALENDAR
