BEGIN:VCALENDAR
VERSION:2.0
PRODID:-//Sabre//Sabre VObject 4.5.8//EN
CALSCALE:GREGORIAN
BEGIN:VEVENT
UID:criticalmass-one-wei-enburg-1738341000
DTSTAMP:20260425T214337Z
SUMMARY:Critical Mass Weißenburg 31.01.2025
DTSTART;TZID=Europe/Berlin:20250131T173000
DTEND;TZID=Europe/Berlin:20250131T193000
LOCATION:Marktplatz
GEO:49.030567;10.971898
URL;VALUE=URI:https://criticalmass.in/wei-enburg/2025-01-31
END:VEVENT
END:VCALENDAR
