BEGIN:VCALENDAR
VERSION:2.0
PRODID:-//Sabre//Sabre VObject 4.5.8//EN
CALSCALE:GREGORIAN
BEGIN:VEVENT
UID:criticalmass-one-wei-enburg-1725031800
DTSTAMP:20260425T231015Z
SUMMARY:Critical Mass Weißenburg 30.08.2024
DTSTART;TZID=Europe/Berlin:20240830T173000
DTEND;TZID=Europe/Berlin:20240830T193000
LOCATION:Marktplatz
GEO:49.030567;10.971898
URL;VALUE=URI:https://criticalmass.in/wei-enburg/2024-08-30
END:VEVENT
END:VCALENDAR
