BEGIN:VCALENDAR
VERSION:2.0
PRODID:-//Sabre//Sabre VObject 4.5.8//EN
CALSCALE:GREGORIAN
BEGIN:VEVENT
UID:criticalmass-one-wei-enburg-1664551800
DTSTAMP:20260425T032854Z
SUMMARY:Critical Mass Weißenburg 30.09.2022
DTSTART;TZID=Europe/Berlin:20220930T173000
DTEND;TZID=Europe/Berlin:20220930T193000
LOCATION:Marktplatz
GEO:49.030567;10.971898
URL;VALUE=URI:https://criticalmass.in/wei-enburg/2022-09-30
END:VEVENT
END:VCALENDAR
