BEGIN:VCALENDAR
VERSION:2.0
PRODID:-//Sabre//Sabre VObject 4.5.8//EN
CALSCALE:GREGORIAN
BEGIN:VEVENT
UID:criticalmass-one-wei-enburg-1635521400
DTSTAMP:20260425T021043Z
SUMMARY:Critical Mass Weißenburg 29.10.2021
DTSTART;TZID=Europe/Berlin:20211029T173000
DTEND;TZID=Europe/Berlin:20211029T193000
LOCATION:Marktplatz
GEO:49.030567;10.971898
URL;VALUE=URI:https://criticalmass.in/wei-enburg/2021-10-29
END:VEVENT
END:VCALENDAR
