BEGIN:VCALENDAR
VERSION:2.0
PRODID:-//Sabre//Sabre VObject 4.5.8//EN
CALSCALE:GREGORIAN
BEGIN:VEVENT
UID:criticalmass-one-wei-enburg-1622215800
DTSTAMP:20260425T213519Z
SUMMARY:Critical Mass Weißenburg 28.05.2021
DTSTART;TZID=Europe/Berlin:20210528T173000
DTEND;TZID=Europe/Berlin:20210528T193000
LOCATION:Marktplatz
GEO:49.030567;10.971898
URL;VALUE=URI:https://criticalmass.in/wei-enburg/2021-05-28
END:VEVENT
END:VCALENDAR
