BEGIN:VCALENDAR
VERSION:2.0
PRODID:-//Sabre//Sabre VObject 4.5.8//EN
CALSCALE:GREGORIAN
BEGIN:VEVENT
UID:criticalmass-one-wannweil-1764349200
DTSTAMP:20260423T143518Z
SUMMARY:21. Critical Mass Wannweil
DTSTART;TZID=Europe/Berlin:20251128T180000
DTEND;TZID=Europe/Berlin:20251128T200000
LOCATION:Rathaus Wannweil
URL;VALUE=URI:https://criticalmass.in/wannweil/2025-11-28
END:VEVENT
END:VCALENDAR
