BEGIN:VCALENDAR
VERSION:2.0
PRODID:-//Sabre//Sabre VObject 4.5.8//EN
CALSCALE:GREGORIAN
BEGIN:VEVENT
UID:criticalmass-one-wannweil-1756483200
DTSTAMP:20260422T194618Z
SUMMARY:18. Critical Mass Wannweil
DTSTART;TZID=Europe/Berlin:20250829T180000
DTEND;TZID=Europe/Berlin:20250829T200000
LOCATION:Rathaus Wannweil
URL;VALUE=URI:https://criticalmass.in/wannweil/2025-08-29
END:VEVENT
END:VCALENDAR
