BEGIN:VCALENDAR
VERSION:2.0
PRODID:-//Sabre//Sabre VObject 4.5.8//EN
CALSCALE:GREGORIAN
BEGIN:VEVENT
UID:criticalmass-one-wannweil-1753459200
DTSTAMP:20260424T092655Z
SUMMARY:17. Critical Mass Wannweil
DTSTART;TZID=Europe/Berlin:20250725T180000
DTEND;TZID=Europe/Berlin:20250725T200000
LOCATION:Rathaus Wannweil
URL;VALUE=URI:https://criticalmass.in/wannweil/2025-07-25
END:VEVENT
END:VCALENDAR
