BEGIN:VCALENDAR
VERSION:2.0
PRODID:-//Sabre//Sabre VObject 4.5.8//EN
CALSCALE:GREGORIAN
BEGIN:VEVENT
UID:criticalmass-one-wannweil-1751040000
DTSTAMP:20260423T031938Z
SUMMARY:16. Critical Mass Wannweil
DTSTART;TZID=Europe/Berlin:20250627T180000
DTEND;TZID=Europe/Berlin:20250627T200000
LOCATION:Rathaus Wannweil
URL;VALUE=URI:https://criticalmass.in/wannweil/2025-06-27
END:VEVENT
END:VCALENDAR
