BEGIN:VCALENDAR
VERSION:2.0
PRODID:-//Sabre//Sabre VObject 4.5.8//EN
CALSCALE:GREGORIAN
BEGIN:VEVENT
UID:criticalmass-one-wannweil-1740762000
DTSTAMP:20260422T170011Z
SUMMARY:12. Critical Mass Wannweil
DTSTART;TZID=Europe/Berlin:20250228T180000
DTEND;TZID=Europe/Berlin:20250228T200000
LOCATION:Rathaus Wannweil
URL;VALUE=URI:https://criticalmass.in/wannweil/2025-02-28
END:VEVENT
END:VCALENDAR
