BEGIN:VCALENDAR
VERSION:2.0
PRODID:-//Sabre//Sabre VObject 4.5.8//EN
CALSCALE:GREGORIAN
BEGIN:VEVENT
UID:criticalmass-one-wannweil-1735318800
DTSTAMP:20260424T092535Z
SUMMARY:10. Critical Mass Wannweil
DESCRIPTION:Durch den Ort
DTSTART;TZID=Europe/Berlin:20241227T180000
DTEND;TZID=Europe/Berlin:20241227T200000
LOCATION:Wannweil\, Rathaus
GEO:48.515389;9.150925
URL;VALUE=URI:https://criticalmass.in/wannweil/2024-12-27
END:VEVENT
END:VCALENDAR
