BEGIN:VCALENDAR
VERSION:2.0
PRODID:-//Sabre//Sabre VObject 4.5.8//EN
CALSCALE:GREGORIAN
BEGIN:VEVENT
UID:criticalmass-one-wannweil-1729872000
DTSTAMP:20260425T165013Z
SUMMARY:8. Critical Mass Wannweil
DESCRIPTION:Die Oktoberrunde kreuzt die Schulwege\, die 2019 von Schulkinde
 rn im Rahmen des Fußverkehrs-Checks begangen wurden. Es werden die Stelle
 n -Kreuzungen\, Querungen u.a.- angeschaut\, ob und was sich seitdem verbe
 ssert hat.
DTSTART;TZID=Europe/Berlin:20241025T180000
DTEND;TZID=Europe/Berlin:20241025T200000
LOCATION:Rathaus Wannweil
GEO:48.515417;9.151000
URL;VALUE=URI:https://criticalmass.in/wannweil/2024-10-25
END:VEVENT
END:VCALENDAR
