BEGIN:VCALENDAR
VERSION:2.0
PRODID:-//Sabre//Sabre VObject 4.5.8//EN
CALSCALE:GREGORIAN
BEGIN:VEVENT
UID:criticalmass-one-wannweil-1725033600
DTSTAMP:20260422T082725Z
SUMMARY:6. Critical Mass Wannweil
DESCRIPTION:Durch den Ort zum Jugendtreff
DTSTART;TZID=Europe/Berlin:20240830T180000
DTEND;TZID=Europe/Berlin:20240830T200000
LOCATION:Rathaus Wannweil
GEO:48.515396;9.150957
URL;VALUE=URI:https://criticalmass.in/wannweil/2024-08-30
END:VEVENT
END:VCALENDAR
