BEGIN:VCALENDAR
VERSION:2.0
PRODID:-//Sabre//Sabre VObject 4.5.8//EN
CALSCALE:GREGORIAN
BEGIN:VEVENT
UID:criticalmass-one-wannweil-1722009600
DTSTAMP:20260423T095604Z
SUMMARY:5. Critical Mass Wannweil
DESCRIPTION:Kreuz + quer durch den Ort und mit einem kurzen touritischen Ab
 stecher nach K'furt
DTSTART;TZID=Europe/Berlin:20240726T180000
DTEND;TZID=Europe/Berlin:20240726T200000
LOCATION:Rathaus Wannweil
GEO:48.515432;9.150914
URL;VALUE=URI:https://criticalmass.in/wannweil/2024-07-26
END:VEVENT
END:VCALENDAR
