BEGIN:VCALENDAR
VERSION:2.0
PRODID:-//Sabre//Sabre VObject 4.5.8//EN
CALSCALE:GREGORIAN
BEGIN:VEVENT
UID:criticalmass-one-wannweil-1717171200
DTSTAMP:20260422T133632Z
SUMMARY:3. Critical Mass Tour Wannweil
DESCRIPTION:Schöner Radeln längs durch den ganzen Ort\, heute mit Verlän
 gerung nach Kirchentellinsfurt
DTSTART;TZID=Europe/Berlin:20240531T180000
DTEND;TZID=Europe/Berlin:20240531T200000
LOCATION:Wannweil\, Rathaus
GEO:48.515496;9.150989
URL;VALUE=URI:https://criticalmass.in/wannweil/2024-05-31
END:VEVENT
END:VCALENDAR
