BEGIN:VCALENDAR
VERSION:2.0
PRODID:-//Sabre//Sabre VObject 4.5.8//EN
CALSCALE:GREGORIAN
BEGIN:VEVENT
UID:criticalmass-one-wannweil-1714149000
DTSTAMP:20260423T085707Z
SUMMARY:2. Critical Mass Tour Wannweil  von Grün Alternative Liste und Sch
 öner Radeln*
DESCRIPTION:Entlang der kompletten Hauptstraße und Kirchentellinsfurter St
 raße\, vom K´furter Kreisel bis zum Ortseingang Richtung Betzingen und w
 ieder zurück zum Rathaus.
DTSTART;TZID=Europe/Berlin:20240426T183000
DTEND;TZID=Europe/Berlin:20240426T203000
LOCATION:Rathaus\, Wannweil
GEO:48.515453;9.151198
URL;VALUE=URI:https://criticalmass.in/wannweil/2024-04-26
END:VEVENT
END:VCALENDAR
