BEGIN:VCALENDAR
VERSION:2.0
PRODID:-//Sabre//Sabre VObject 4.5.8//EN
CALSCALE:GREGORIAN
BEGIN:VEVENT
UID:criticalmass-one-waltrop-1748077200
DTSTAMP:20260423T023804Z
SUMMARY:Kidical Mass Waltrop 24.05.2025
DESCRIPTION:Wir fahren zusammen eine bunte Runde durch Waltrop!\nIm Anschlu
 ss daran könnt ihr im "Schaltwerk" noch andere Dinge erleben...
DTSTART;TZID=Europe/Berlin:20250524T110000
DTEND;TZID=Europe/Berlin:20250524T130000
LOCATION:Waltrop Hase Bikes - Hiberniastraße 2 - Zeche Waltrop
GEO:51.618211;7.420022
URL;VALUE=URI:https://criticalmass.in/waltrop/kidical-mass-waltrop-mai-2025
END:VEVENT
END:VCALENDAR
