BEGIN:VCALENDAR
VERSION:2.0
PRODID:-//Sabre//Sabre VObject 4.5.8//EN
CALSCALE:GREGORIAN
BEGIN:VEVENT
UID:criticalmass-one-waldshut-1765038600
DTSTAMP:20260424T232401Z
SUMMARY:Critical Mass Waldshut 06.12.2025
DTSTART;TZID=Europe/Berlin:20251206T173000
DTEND;TZID=Europe/Berlin:20251206T193000
LOCATION:Chilbi-Platz
GEO:47.628131;8.214195
URL;VALUE=URI:https://criticalmass.in/waldshut/2025-12-06
END:VEVENT
END:VCALENDAR
