BEGIN:VCALENDAR
VERSION:2.0
PRODID:-//Sabre//Sabre VObject 4.5.8//EN
CALSCALE:GREGORIAN
BEGIN:VEVENT
UID:criticalmass-one-waldshut-1743867000
DTSTAMP:20260424T023214Z
SUMMARY:Critical Mass Waldshut 05.04.2025
DTSTART;TZID=Europe/Berlin:20250405T173000
DTEND;TZID=Europe/Berlin:20250405T193000
LOCATION:Chilbi-Platz
GEO:47.628131;8.214195
URL;VALUE=URI:https://criticalmass.in/waldshut/2025-04-05
END:VEVENT
END:VCALENDAR
