BEGIN:VCALENDAR
VERSION:2.0
PRODID:-//Sabre//Sabre VObject 4.5.8//EN
CALSCALE:GREGORIAN
BEGIN:VEVENT
UID:criticalmass-one-waldshut-1722699000
DTSTAMP:20260421T125708Z
SUMMARY:Critical Mass Waldshut 3.8.2024
DTSTART;TZID=Europe/Berlin:20240803T173000
DTEND;TZID=Europe/Berlin:20240803T193000
LOCATION:Chilbi-Platz
GEO:47.628150;8.214009
URL;VALUE=URI:https://criticalmass.in/waldshut/2024-08-03
END:VEVENT
END:VCALENDAR
