BEGIN:VCALENDAR
VERSION:2.0
PRODID:-//Sabre//Sabre VObject 4.5.8//EN
CALSCALE:GREGORIAN
BEGIN:VEVENT
UID:criticalmass-one-waldshut-1717255800
DTSTAMP:20260423T093355Z
SUMMARY:Critical Mass Waldshut 1.6.2024
DTSTART;TZID=Europe/Berlin:20240601T173000
DTEND;TZID=Europe/Berlin:20240601T193000
LOCATION:Chilbi-Platz
GEO:47.628095;8.214026
URL;VALUE=URI:https://criticalmass.in/waldshut/2024-06-01
END:VEVENT
END:VCALENDAR
