BEGIN:VCALENDAR
VERSION:2.0
PRODID:-//Sabre//Sabre VObject 4.5.8//EN
CALSCALE:GREGORIAN
BEGIN:VEVENT
UID:criticalmass-one-waldshut-1712417400
DTSTAMP:20260425T151848Z
SUMMARY:Critical Mass Waldshut 06.04.2024
DTSTART;TZID=Europe/Berlin:20240406T173000
DTEND;TZID=Europe/Berlin:20240406T193000
LOCATION:Chilbi-Platz
GEO:47.628131;8.214195
URL;VALUE=URI:https://criticalmass.in/waldshut/2024-04-06
END:VEVENT
END:VCALENDAR
