BEGIN:VCALENDAR
VERSION:2.0
PRODID:-//Sabre//Sabre VObject 4.5.8//EN
CALSCALE:GREGORIAN
BEGIN:VEVENT
UID:criticalmass-one-waldshut-1704558600
DTSTAMP:20260424T000949Z
SUMMARY:Critical Mass Waldshut
DTSTART;TZID=Europe/Berlin:20240106T173000
DTEND;TZID=Europe/Berlin:20240106T193000
LOCATION:Chilbi-Platz
GEO:47.628012;8.214073
URL;VALUE=URI:https://criticalmass.in/waldshut/2024-01-06
END:VEVENT
END:VCALENDAR
