BEGIN:VCALENDAR
VERSION:2.0
PRODID:-//Sabre//Sabre VObject 4.5.8//EN
CALSCALE:GREGORIAN
BEGIN:VEVENT
UID:criticalmass-one-waldshut-1699115400
DTSTAMP:20260422T032847Z
SUMMARY:Critical Mass Waldshut
DTSTART;TZID=Europe/Berlin:20231104T173000
DTEND;TZID=Europe/Berlin:20231104T193000
LOCATION:Chilbi-Platz
GEO:47.628070;8.213829
URL;VALUE=URI:https://criticalmass.in/waldshut/2023-11-04
END:VEVENT
END:VCALENDAR
