BEGIN:VCALENDAR
VERSION:2.0
PRODID:-//Sabre//Sabre VObject 4.5.8//EN
CALSCALE:GREGORIAN
BEGIN:VEVENT
UID:criticalmass-one-viersen-1489771800
DTSTAMP:20260424T175541Z
SUMMARY:Critical Mass Viersen 17.03.2017
DTSTART;TZID=Europe/Berlin:20170317T183000
DTEND;TZID=Europe/Berlin:20170317T203000
LOCATION:Gereonsplatz
GEO:51.252783;6.394708
URL;VALUE=URI:https://criticalmass.in/viersen/2017-03-17
END:VEVENT
END:VCALENDAR
