BEGIN:VCALENDAR
VERSION:2.0
PRODID:-//Sabre//Sabre VObject 4.5.8//EN
CALSCALE:GREGORIAN
BEGIN:VEVENT
UID:criticalmass-one-viersen-1487352600
DTSTAMP:20260425T231139Z
SUMMARY:Critical Mass Viersen 17.02.2017
DTSTART;TZID=Europe/Berlin:20170217T183000
DTEND;TZID=Europe/Berlin:20170217T203000
LOCATION:Gereonsplatz
GEO:51.252783;6.394708
URL;VALUE=URI:https://criticalmass.in/viersen/2017-02-17
END:VEVENT
END:VCALENDAR
