BEGIN:VCALENDAR
VERSION:2.0
PRODID:-//Sabre//Sabre VObject 4.5.8//EN
CALSCALE:GREGORIAN
BEGIN:VEVENT
UID:criticalmass-one-vevey-1751040000
DTSTAMP:20260421T192659Z
SUMMARY:Critical Mass Vevey 27.06.2025
DTSTART;TZID=Europe/Zurich:20250627T180000
DTEND;TZID=Europe/Zurich:20250627T200000
LOCATION:La Grenette Vevey
GEO:46.460385;6.841584
URL;VALUE=URI:https://criticalmass.in/vevey/2025-06-27
END:VEVENT
END:VCALENDAR
