BEGIN:VCALENDAR
VERSION:2.0
PRODID:-//Sabre//Sabre VObject 4.5.8//EN
CALSCALE:GREGORIAN
BEGIN:VEVENT
UID:criticalmass-one-vevey-1666972800
DTSTAMP:20260422T064325Z
SUMMARY:Critical Mass Vevey 28.10.2022
DTSTART;TZID=Europe/Zurich:20221028T180000
DTEND;TZID=Europe/Zurich:20221028T200000
LOCATION:La Grenette Vevey
GEO:46.460385;6.841584
URL;VALUE=URI:https://criticalmass.in/vevey/2022-10-28
END:VEVENT
END:VCALENDAR
