BEGIN:VCALENDAR
VERSION:2.0
PRODID:-//Sabre//Sabre VObject 4.5.8//EN
CALSCALE:GREGORIAN
BEGIN:VEVENT
UID:criticalmass-one-vevey-1659110400
DTSTAMP:20260421T084030Z
SUMMARY:Critical Mass Vevey 29.07.2022
DTSTART;TZID=Europe/Zurich:20220729T180000
DTEND;TZID=Europe/Zurich:20220729T200000
LOCATION:La Grenette Vevey
GEO:46.460385;6.841584
URL;VALUE=URI:https://criticalmass.in/vevey/2022-07-29
END:VEVENT
END:VCALENDAR
