BEGIN:VCALENDAR
VERSION:2.0
PRODID:-//Sabre//Sabre VObject 4.5.8//EN
CALSCALE:GREGORIAN
BEGIN:VEVENT
UID:criticalmass-one-vevey-1632499200
DTSTAMP:20260421T210432Z
SUMMARY:Critical Mass Vevey 24.09.2021
DTSTART;TZID=Europe/Zurich:20210924T180000
DTEND;TZID=Europe/Zurich:20210924T200000
LOCATION:La Grenette Vevey
GEO:46.460385;6.841584
URL;VALUE=URI:https://criticalmass.in/vevey/2021-09-24
END:VEVENT
END:VCALENDAR
