BEGIN:VCALENDAR
VERSION:2.0
PRODID:-//Sabre//Sabre VObject 4.5.8//EN
CALSCALE:GREGORIAN
BEGIN:VEVENT
UID:criticalmass-one-vevey-1624636800
DTSTAMP:20260423T213342Z
SUMMARY:Critical Mass Vevey 25.06.2021
DTSTART;TZID=Europe/Zurich:20210625T180000
DTEND;TZID=Europe/Zurich:20210625T200000
LOCATION:La Grenette Vevey
GEO:46.460385;6.841584
URL;VALUE=URI:https://criticalmass.in/vevey/2021-06-25
END:VEVENT
END:VCALENDAR
