BEGIN:VCALENDAR
VERSION:2.0
PRODID:-//Sabre//Sabre VObject 4.5.8//EN
CALSCALE:GREGORIAN
BEGIN:VEVENT
UID:criticalmass-one-vevey-1616778000
DTSTAMP:20260422T064045Z
SUMMARY:Critical Mass Vevey 26.03.2021
DTSTART;TZID=Europe/Zurich:20210326T180000
DTEND;TZID=Europe/Zurich:20210326T200000
LOCATION:La Grenette Vevey
GEO:46.460385;6.841584
URL;VALUE=URI:https://criticalmass.in/vevey/2021-03-26
END:VEVENT
END:VCALENDAR
