BEGIN:VCALENDAR
VERSION:2.0
PRODID:-//Sabre//Sabre VObject 4.5.8//EN
CALSCALE:GREGORIAN
BEGIN:VEVENT
UID:criticalmass-one-vevey-1606496400
DTSTAMP:20260421T143335Z
SUMMARY:Critical Mass Vevey 27.11.2020
DTSTART;TZID=Europe/Zurich:20201127T180000
DTEND;TZID=Europe/Zurich:20201127T200000
LOCATION:La Grenette Vevey
GEO:46.460385;6.841584
URL;VALUE=URI:https://criticalmass.in/vevey/2020-11-27
END:VEVENT
END:VCALENDAR
