BEGIN:VCALENDAR
VERSION:2.0
PRODID:-//Sabre//Sabre VObject 4.5.8//EN
CALSCALE:GREGORIAN
BEGIN:VEVENT
UID:criticalmass-one-vevey-1601049600
DTSTAMP:20260423T111915Z
SUMMARY:Critical Mass Vevey 25.09.2020
DTSTART;TZID=Europe/Zurich:20200925T180000
DTEND;TZID=Europe/Zurich:20200925T200000
LOCATION:La Grenette Vevey
GEO:46.460385;6.841584
URL;VALUE=URI:https://criticalmass.in/vevey/2020-09-25
END:VEVENT
END:VCALENDAR
