BEGIN:VCALENDAR
VERSION:2.0
PRODID:-//Sabre//Sabre VObject 4.5.8//EN
CALSCALE:GREGORIAN
BEGIN:VEVENT
UID:criticalmass-one-vevey-1577466000
DTSTAMP:20260421T141239Z
SUMMARY:Critical Mass Vevey 27.12.2019
DTSTART;TZID=Europe/Zurich:20191227T180000
DTEND;TZID=Europe/Zurich:20191227T200000
LOCATION:La Grenette Vevey
GEO:46.460385;6.841584
URL;VALUE=URI:https://criticalmass.in/vevey/2019-12-27
END:VEVENT
END:VCALENDAR
