BEGIN:VCALENDAR
VERSION:2.0
PRODID:-//Sabre//Sabre VObject 4.5.8//EN
CALSCALE:GREGORIAN
BEGIN:VEVENT
UID:criticalmass-one-vevey-1561737600
DTSTAMP:20260419T151434Z
SUMMARY:Critical Mass Vevey 28.06.2019
DTSTART;TZID=Europe/Zurich:20190628T180000
DTEND;TZID=Europe/Zurich:20190628T200000
LOCATION:La Grenette Vevey
GEO:46.460385;6.841584
URL;VALUE=URI:https://criticalmass.in/vevey/2019-06-28
END:VEVENT
END:VCALENDAR
