BEGIN:VCALENDAR
VERSION:2.0
PRODID:-//Sabre//Sabre VObject 4.5.8//EN
CALSCALE:GREGORIAN
BEGIN:VEVENT
UID:criticalmass-one-vevey-1550854800
DTSTAMP:20260421T223021Z
SUMMARY:Critical Mass Vevey 22.02.2019
DTSTART;TZID=Europe/Zurich:20190222T180000
DTEND;TZID=Europe/Zurich:20190222T200000
LOCATION:La Grenette Vevey
GEO:46.460385;6.841584
URL;VALUE=URI:https://criticalmass.in/vevey/2019-02-22
END:VEVENT
END:VCALENDAR
