BEGIN:VCALENDAR
VERSION:2.0
PRODID:-//Sabre//Sabre VObject 4.5.8//EN
CALSCALE:GREGORIAN
BEGIN:VEVENT
UID:criticalmass-one-vevey-1527264000
DTSTAMP:20260424T100604Z
SUMMARY:Critical Mass Vevey 25.05.2018
DTSTART;TZID=Europe/Zurich:20180525T180000
DTEND;TZID=Europe/Zurich:20180525T200000
LOCATION:La Grenette Vevey
GEO:46.460385;6.841584
URL;VALUE=URI:https://criticalmass.in/vevey/2018-05-25
END:VEVENT
END:VCALENDAR
