BEGIN:VCALENDAR
VERSION:2.0
PRODID:-//Sabre//Sabre VObject 4.5.8//EN
CALSCALE:GREGORIAN
BEGIN:VEVENT
UID:criticalmass-one-vevey-1522429200
DTSTAMP:20260422T164438Z
SUMMARY:Critical Mass Vevey 30.03.2018
DTSTART;TZID=Europe/Zurich:20180330T190000
DTEND;TZID=Europe/Zurich:20180330T210000
LOCATION:La Grenette Vevey
GEO:46.460385;6.841584
URL;VALUE=URI:https://criticalmass.in/vevey/2018-03-30
END:VEVENT
END:VCALENDAR
