BEGIN:VCALENDAR
VERSION:2.0
PRODID:-//Sabre//Sabre VObject 4.5.8//EN
CALSCALE:GREGORIAN
BEGIN:VEVENT
UID:criticalmass-one-vevey-1519405200
DTSTAMP:20260422T032746Z
SUMMARY:Critical Mass Vevey 23.02.2018
DTSTART;TZID=Europe/Zurich:20180223T180000
DTEND;TZID=Europe/Zurich:20180223T200000
LOCATION:La Grenette Vevey
GEO:46.460385;6.841584
URL;VALUE=URI:https://criticalmass.in/vevey/2018-02-23
END:VEVENT
END:VCALENDAR
