BEGIN:VCALENDAR
VERSION:2.0
PRODID:-//Sabre//Sabre VObject 4.5.8//EN
CALSCALE:GREGORIAN
BEGIN:VEVENT
UID:criticalmass-one-vevey-1514566800
DTSTAMP:20260421T125304Z
SUMMARY:Critical Mass Vevey 29.12.2017
DTSTART;TZID=Europe/Zurich:20171229T180000
DTEND;TZID=Europe/Zurich:20171229T200000
LOCATION:La Grenette Vevey
GEO:46.460385;6.841584
URL;VALUE=URI:https://criticalmass.in/vevey/2017-12-29
END:VEVENT
END:VCALENDAR
