BEGIN:VCALENDAR
VERSION:2.0
PRODID:-//Sabre//Sabre VObject 4.5.8//EN
CALSCALE:GREGORIAN
BEGIN:VEVENT
UID:criticalmass-one-vevey-1503676800
DTSTAMP:20260422T115808Z
SUMMARY:Critical Mass Vevey 25.08.2017
DTSTART;TZID=Europe/Zurich:20170825T180000
DTEND;TZID=Europe/Zurich:20170825T200000
LOCATION:La Grenette Vevey
GEO:46.460385;6.841584
URL;VALUE=URI:https://criticalmass.in/vevey/2017-08-25
END:VEVENT
END:VCALENDAR
