BEGIN:VCALENDAR
VERSION:2.0
PRODID:-//Sabre//Sabre VObject 4.5.8//EN
CALSCALE:GREGORIAN
BEGIN:VEVENT
UID:criticalmass-one-vevey-1498838400
DTSTAMP:20260421T100022Z
SUMMARY:Critical Mass Vevey 30.06.2017
DTSTART;TZID=Europe/Zurich:20170630T180000
DTEND;TZID=Europe/Zurich:20170630T200000
LOCATION:La Grenette Vevey
GEO:46.460385;6.841584
URL;VALUE=URI:https://criticalmass.in/vevey/2017-06-30
END:VEVENT
END:VCALENDAR
