BEGIN:VCALENDAR
VERSION:2.0
PRODID:-//Sabre//Sabre VObject 4.5.8//EN
CALSCALE:GREGORIAN
BEGIN:VEVENT
UID:criticalmass-one-vevey-1480082400
DTSTAMP:20260421T173840Z
SUMMARY:Critical Mass Vevey 25.11.2016
DTSTART;TZID=Europe/Zurich:20161125T150000
DTEND;TZID=Europe/Zurich:20161125T170000
LOCATION:La Grenette Vevey
GEO:46.460385;6.841584
URL;VALUE=URI:https://criticalmass.in/vevey/2016-11-25
END:VEVENT
END:VCALENDAR
