BEGIN:VCALENDAR
VERSION:2.0
PRODID:-//Sabre//Sabre VObject 4.5.8//EN
CALSCALE:GREGORIAN
BEGIN:VEVENT
UID:criticalmass-one-vevey-1475251200
DTSTAMP:20260422T032911Z
SUMMARY:Critical Mass Vevey 30.09.2016
DTSTART;TZID=Europe/Zurich:20160930T180000
DTEND;TZID=Europe/Zurich:20160930T200000
LOCATION:La Grenette Vevey
GEO:46.460385;6.841584
URL;VALUE=URI:https://criticalmass.in/vevey/2016-09-30
END:VEVENT
END:VCALENDAR
