BEGIN:VCALENDAR
VERSION:2.0
PRODID:-//Sabre//Sabre VObject 4.5.8//EN
CALSCALE:GREGORIAN
BEGIN:VEVENT
UID:criticalmass-one-vevey-1458925200
DTSTAMP:20260425T004529Z
SUMMARY:Critical Mass Vevey 25.03.2016
DTSTART;TZID=Europe/Zurich:20160325T180000
DTEND;TZID=Europe/Zurich:20160325T200000
LOCATION:La Grenette Vevey
GEO:46.460385;6.841584
URL;VALUE=URI:https://criticalmass.in/vevey/2016-03-25
END:VEVENT
END:VCALENDAR
