BEGIN:VCALENDAR
VERSION:2.0
PRODID:-//Sabre//Sabre VObject 4.5.8//EN
CALSCALE:GREGORIAN
BEGIN:VEVENT
UID:criticalmass-one-valència-1680886800
DTSTAMP:20260422T115023Z
SUMMARY:Massa Crítica València 07.04.2023
DTSTART;TZID=Europe/Madrid:20230407T190000
DTEND;TZID=Europe/Madrid:20230407T210000
LOCATION:Plaza de la Virgen
GEO:39.476461;-0.375289
URL;VALUE=URI:https://criticalmass.in/val%C3%A8ncia/2023-04-07
END:VEVENT
END:VCALENDAR
