BEGIN:VCALENDAR
VERSION:2.0
PRODID:-//Sabre//Sabre VObject 4.5.8//EN
CALSCALE:GREGORIAN
BEGIN:VEVENT
UID:criticalmass-one-valència-1670004000
DTSTAMP:20260422T022318Z
SUMMARY:Massa Crítica València 02.12.2022
DTSTART;TZID=Europe/Madrid:20221202T190000
DTEND;TZID=Europe/Madrid:20221202T210000
LOCATION:Plaza de la Virgen
GEO:39.476461;-0.375289
URL;VALUE=URI:https://criticalmass.in/val%C3%A8ncia/2022-12-02
END:VEVENT
END:VCALENDAR
